BEGIN:VCALENDAR
VERSION:2.0
PRODID:-//Kent Island Resort - ECPv6.15.17//NONSGML v1.0//EN
CALSCALE:GREGORIAN
METHOD:PUBLISH
X-WR-CALNAME:Kent Island Resort
X-ORIGINAL-URL:https://www.kentislandresort.com
X-WR-CALDESC:Events for Kent Island Resort
REFRESH-INTERVAL;VALUE=DURATION:PT1H
X-Robots-Tag:noindex
X-PUBLISHED-TTL:PT1H
BEGIN:VTIMEZONE
TZID:America/New_York
BEGIN:DAYLIGHT
TZOFFSETFROM:-0500
TZOFFSETTO:-0400
TZNAME:EDT
DTSTART:20250309T070000
END:DAYLIGHT
BEGIN:STANDARD
TZOFFSETFROM:-0400
TZOFFSETTO:-0500
TZNAME:EST
DTSTART:20251102T060000
END:STANDARD
BEGIN:DAYLIGHT
TZOFFSETFROM:-0500
TZOFFSETTO:-0400
TZNAME:EDT
DTSTART:20260308T070000
END:DAYLIGHT
BEGIN:STANDARD
TZOFFSETFROM:-0400
TZOFFSETTO:-0500
TZNAME:EST
DTSTART:20261101T060000
END:STANDARD
BEGIN:DAYLIGHT
TZOFFSETFROM:-0500
TZOFFSETTO:-0400
TZNAME:EDT
DTSTART:20270314T070000
END:DAYLIGHT
BEGIN:STANDARD
TZOFFSETFROM:-0400
TZOFFSETTO:-0500
TZNAME:EST
DTSTART:20271107T060000
END:STANDARD
END:VTIMEZONE
BEGIN:VEVENT
DTSTART;TZID=America/New_York:20260208T110000
DTEND;TZID=America/New_York:20260208T140000
DTSTAMP:20260422T161305
CREATED:20260114T101748Z
LAST-MODIFIED:20260115T100618Z
UID:10000151-1770548400-1770559200@www.kentislandresort.com
SUMMARY:Take Home Tail Gate! Come grab a game winning meal!!
DESCRIPTION:Make game day easy with Kent Island Resort’s Take Home Tailgate. Feb 7 reheat option with instructions\, or Feb 8 hot and ready pickup.\n\n\n\nGet game-day ready with Kent Island Resort’s Take Home Tailgate! Let us handle the food so you can focus on the fun. Perfect for hosting friends and family\, our Super Bowl To-Go catering offers convenient pickup options designed to fit your schedule. \nChoose to pick up on Saturday\, February 7th\, with a reheat-at-home option\, or enjoy your order hot and ready on Sunday\, February 8th. Detailed reheat instructions will be provided with all applicable orders to ensure an easy and delicious game-day experience. \nAll orders will be available for pickup at 18TWENTY Restaurant. Quantities are limited\, so be sure to place your order early. Ordering closes three days prior to the event. \nCelebrate the Super Bowl with winning flavors from Kent Island Resort.
URL:https://www.kentislandresort.com/event/take-home-tail-gate-come-grab-a-game-winning-meal/2026-02-08/
CATEGORIES:Food & Drink
ATTACH;FMTTYPE=image/png:https://www.kentislandresort.com/wp-content/uploads/2026/01/Untitled-design-2026-01-14T151340.011-1.png
END:VEVENT
END:VCALENDAR