BEGIN:VCALENDAR
VERSION:2.0
PRODID:-//Kent Island Resort - ECPv6.15.17//NONSGML v1.0//EN
CALSCALE:GREGORIAN
METHOD:PUBLISH
X-ORIGINAL-URL:https://www.kentislandresort.com
X-WR-CALDESC:Events for Kent Island Resort
REFRESH-INTERVAL;VALUE=DURATION:PT1H
X-Robots-Tag:noindex
X-PUBLISHED-TTL:PT1H
BEGIN:VTIMEZONE
TZID:America/New_York
BEGIN:DAYLIGHT
TZOFFSETFROM:-0500
TZOFFSETTO:-0400
TZNAME:EDT
DTSTART:20250309T070000
END:DAYLIGHT
BEGIN:STANDARD
TZOFFSETFROM:-0400
TZOFFSETTO:-0500
TZNAME:EST
DTSTART:20251102T060000
END:STANDARD
BEGIN:DAYLIGHT
TZOFFSETFROM:-0500
TZOFFSETTO:-0400
TZNAME:EDT
DTSTART:20260308T070000
END:DAYLIGHT
BEGIN:STANDARD
TZOFFSETFROM:-0400
TZOFFSETTO:-0500
TZNAME:EST
DTSTART:20261101T060000
END:STANDARD
BEGIN:DAYLIGHT
TZOFFSETFROM:-0500
TZOFFSETTO:-0400
TZNAME:EDT
DTSTART:20270314T070000
END:DAYLIGHT
BEGIN:STANDARD
TZOFFSETFROM:-0400
TZOFFSETTO:-0500
TZNAME:EST
DTSTART:20271107T060000
END:STANDARD
END:VTIMEZONE
BEGIN:VEVENT
DTSTART;TZID=America/New_York:20260617T180000
DTEND;TZID=America/New_York:20260617T210000
DTSTAMP:20260422T180221
CREATED:20260128T064753Z
LAST-MODIFIED:20260226T100555Z
UID:10000159-1781719200-1781730000@www.kentislandresort.com
SUMMARY:Classic Reels and Good Feels...A Summer Movie Night
DESCRIPTION:Enjoy a laid-back outdoor experience with friends and family\, great food and drinks\, and a classic film under the stars.\n\n\n\nGrab your friends and family\, snag a seat\, and settle in for a night of iconic quotes\, unforgettable characters\, and all the nostalgia you can handle. Join us on the patio where beloved films take center stage under the stars. Enjoy great food\, signature drinks\, and a laid-back outdoor vibe while watching the movies everyone loves to quote. \nMovie: Willy Wonka and the Chocolate Factory\nStart Time: 6:45 PM\nLawn Seating: BYOB — Bring Your Own Chair
URL:https://www.kentislandresort.com/event/classic-reels-and-good-feels-a-summer-movie-night/
CATEGORIES:Film & Media
ATTACH;FMTTYPE=image/jpeg:https://www.kentislandresort.com/wp-content/uploads/2026/01/Eventbrite-covers-75.jpg
END:VEVENT
END:VCALENDAR