BEGIN:VCALENDAR
VERSION:2.0
PRODID:-//Kent Island Resort - ECPv6.15.17//NONSGML v1.0//EN
CALSCALE:GREGORIAN
METHOD:PUBLISH
X-ORIGINAL-URL:https://www.kentislandresort.com
X-WR-CALDESC:Events for Kent Island Resort
REFRESH-INTERVAL;VALUE=DURATION:PT1H
X-Robots-Tag:noindex
X-PUBLISHED-TTL:PT1H
BEGIN:VTIMEZONE
TZID:America/New_York
BEGIN:DAYLIGHT
TZOFFSETFROM:-0500
TZOFFSETTO:-0400
TZNAME:EDT
DTSTART:20250309T070000
END:DAYLIGHT
BEGIN:STANDARD
TZOFFSETFROM:-0400
TZOFFSETTO:-0500
TZNAME:EST
DTSTART:20251102T060000
END:STANDARD
BEGIN:DAYLIGHT
TZOFFSETFROM:-0500
TZOFFSETTO:-0400
TZNAME:EDT
DTSTART:20260308T070000
END:DAYLIGHT
BEGIN:STANDARD
TZOFFSETFROM:-0400
TZOFFSETTO:-0500
TZNAME:EST
DTSTART:20261101T060000
END:STANDARD
BEGIN:DAYLIGHT
TZOFFSETFROM:-0500
TZOFFSETTO:-0400
TZNAME:EDT
DTSTART:20270314T070000
END:DAYLIGHT
BEGIN:STANDARD
TZOFFSETFROM:-0400
TZOFFSETTO:-0500
TZNAME:EST
DTSTART:20271107T060000
END:STANDARD
END:VTIMEZONE
BEGIN:VEVENT
DTSTART;TZID=America/New_York:20260207T110000
DTEND;TZID=America/New_York:20260207T140000
DTSTAMP:20260422T180021
CREATED:20260114T101748Z
LAST-MODIFIED:20260115T100618Z
UID:10000150-1770462000-1770472800@www.kentislandresort.com
SUMMARY:Take Home Tail Gate! Come grab a game winning meal!!
DESCRIPTION:Make game day easy with Kent Island Resort’s Take Home Tailgate. Feb 7 reheat option with instructions\, or Feb 8 hot and ready pickup.\n\n\n\nGet game-day ready with Kent Island Resort’s Take Home Tailgate! Let us handle the food so you can focus on the fun. Perfect for hosting friends and family\, our Super Bowl To-Go catering offers convenient pickup options designed to fit your schedule. \nChoose to pick up on Saturday\, February 7th\, with a reheat-at-home option\, or enjoy your order hot and ready on Sunday\, February 8th. Detailed reheat instructions will be provided with all applicable orders to ensure an easy and delicious game-day experience. \nAll orders will be available for pickup at 18TWENTY Restaurant. Quantities are limited\, so be sure to place your order early. Ordering closes three days prior to the event. \nCelebrate the Super Bowl with winning flavors from Kent Island Resort.
URL:https://www.kentislandresort.com/event/take-home-tail-gate-come-grab-a-game-winning-meal/2026-02-07/
CATEGORIES:Food & Drink
ATTACH;FMTTYPE=image/png:https://www.kentislandresort.com/wp-content/uploads/2026/01/Untitled-design-2026-01-14T151340.011-1.png
END:VEVENT
BEGIN:VEVENT
DTSTART;TZID=America/New_York:20260207T110000
DTEND;TZID=America/New_York:20260207T150000
DTSTAMP:20260422T180021
CREATED:20260121T070520Z
LAST-MODIFIED:20260121T070904Z
UID:10000152-1770462000-1770476400@www.kentislandresort.com
SUMMARY:4th Annual Under the Veil and Beyond the Bowtie: Wedding Trend Reveal Event
DESCRIPTION:Meet wedding vendors to plan the day of your dreams!\n\n\n\nBe transported to your magical day! \nWalk through the Farmstead of Kent Island Resort\, meet wedding vendors\, sample the delicious brunch\, view the 2026 trends in our complete wedding sets\, showcasing our vendors\, and connect with vendors during Chesapeake Bay Wedding Magazine’s 4th Annual Under the Veil & Beyond the Bowtie Trend Reveal Event! No matter what stage of the wedding or event planning process you are in\, Under the Veil is your resource to create the day of your dreams!
URL:https://www.kentislandresort.com/event/4th-annual-under-the-veil-and-beyond-the-bowtie-wedding-trend-reveal-event/
CATEGORIES:Bridal,Fashion
ATTACH;FMTTYPE=image/jpeg:https://www.kentislandresort.com/wp-content/uploads/2026/01/https___cdn.evbuc_.com_images_1174412588_2581379340051_1_original.jpeg
END:VEVENT
BEGIN:VEVENT
DTSTART;TZID=America/New_York:20260208T110000
DTEND;TZID=America/New_York:20260208T140000
DTSTAMP:20260422T180021
CREATED:20260114T101748Z
LAST-MODIFIED:20260115T100618Z
UID:10000151-1770548400-1770559200@www.kentislandresort.com
SUMMARY:Take Home Tail Gate! Come grab a game winning meal!!
DESCRIPTION:Make game day easy with Kent Island Resort’s Take Home Tailgate. Feb 7 reheat option with instructions\, or Feb 8 hot and ready pickup.\n\n\n\nGet game-day ready with Kent Island Resort’s Take Home Tailgate! Let us handle the food so you can focus on the fun. Perfect for hosting friends and family\, our Super Bowl To-Go catering offers convenient pickup options designed to fit your schedule. \nChoose to pick up on Saturday\, February 7th\, with a reheat-at-home option\, or enjoy your order hot and ready on Sunday\, February 8th. Detailed reheat instructions will be provided with all applicable orders to ensure an easy and delicious game-day experience. \nAll orders will be available for pickup at 18TWENTY Restaurant. Quantities are limited\, so be sure to place your order early. Ordering closes three days prior to the event. \nCelebrate the Super Bowl with winning flavors from Kent Island Resort.
URL:https://www.kentislandresort.com/event/take-home-tail-gate-come-grab-a-game-winning-meal/2026-02-08/
CATEGORIES:Food & Drink
ATTACH;FMTTYPE=image/png:https://www.kentislandresort.com/wp-content/uploads/2026/01/Untitled-design-2026-01-14T151340.011-1.png
END:VEVENT
END:VCALENDAR