BEGIN:VCALENDAR
VERSION:2.0
PRODID:-//Kent Island Resort - ECPv6.15.17//NONSGML v1.0//EN
CALSCALE:GREGORIAN
METHOD:PUBLISH
X-WR-CALNAME:Kent Island Resort
X-ORIGINAL-URL:https://www.kentislandresort.com
X-WR-CALDESC:Events for Kent Island Resort
REFRESH-INTERVAL;VALUE=DURATION:PT1H
X-Robots-Tag:noindex
X-PUBLISHED-TTL:PT1H
BEGIN:VTIMEZONE
TZID:America/New_York
BEGIN:DAYLIGHT
TZOFFSETFROM:-0500
TZOFFSETTO:-0400
TZNAME:EDT
DTSTART:20250309T070000
END:DAYLIGHT
BEGIN:STANDARD
TZOFFSETFROM:-0400
TZOFFSETTO:-0500
TZNAME:EST
DTSTART:20251102T060000
END:STANDARD
BEGIN:DAYLIGHT
TZOFFSETFROM:-0500
TZOFFSETTO:-0400
TZNAME:EDT
DTSTART:20260308T070000
END:DAYLIGHT
BEGIN:STANDARD
TZOFFSETFROM:-0400
TZOFFSETTO:-0500
TZNAME:EST
DTSTART:20261101T060000
END:STANDARD
BEGIN:DAYLIGHT
TZOFFSETFROM:-0500
TZOFFSETTO:-0400
TZNAME:EDT
DTSTART:20270314T070000
END:DAYLIGHT
BEGIN:STANDARD
TZOFFSETFROM:-0400
TZOFFSETTO:-0500
TZNAME:EST
DTSTART:20271107T060000
END:STANDARD
END:VTIMEZONE
BEGIN:VEVENT
DTSTART;TZID=America/New_York:20260503T120000
DTEND;TZID=America/New_York:20260503T160000
DTSTAMP:20260422T175715
CREATED:20251229T095909Z
LAST-MODIFIED:20251229T095909Z
UID:10000142-1777809600-1777824000@www.kentislandresort.com
SUMMARY:Spring Fest & Craft Fair Vendor Sign Up
DESCRIPTION:Get ready to showcase your crafts and enjoy the spring vibes at our Spring Fest & Craft Fair\n\n\n\nSpring Fest & Craft Fair – Vendor Opportunity \nKent Island Resort is excited to host our Spring Craft Fair on May 3\, 2026\, and we are now accepting vendor applications! This event will take place on the beautiful grounds of Kent Island Resort and welcomes artisans\, makers\, and small businesses to showcase and sell their handcrafted goods to guests and the local community. \nThe fair will run from 12:00 PM to 4:00 PM\, with vendor setup available from 9:00 AM to 12:00 PM. Vendors will be provided with designated outdoor booth spaces\, offering excellent visibility and engagement opportunities. \nFor vendor registration and additional details\, please contact:\nMegan Costello-Rodriguez\, Wedding Sales & Event Manager\nmcostellorodriguez@kentislandresort.com \nor \nKiarra Lanehart\, Banquet Manager\nklanehart@kentislandresort.com
URL:https://www.kentislandresort.com/event/spring-fest-craft-fair-vendor-sign-up/
CATEGORIES:Weekend Party
ATTACH;FMTTYPE=image/png:https://www.kentislandresort.com/wp-content/uploads/2025/12/Untitled-design-50-1.png
END:VEVENT
BEGIN:VEVENT
DTSTART;TZID=America/New_York:20260503T120000
DTEND;TZID=America/New_York:20260503T170000
DTSTAMP:20260422T175715
CREATED:20251218T065837Z
LAST-MODIFIED:20251218T065837Z
UID:10000141-1777809600-1777827600@www.kentislandresort.com
SUMMARY:Kent Island Resort Spring Fest & Craft Fair
DESCRIPTION:A family-friendly spring craft fair featuring local vendors\, unique handmade goods\, and seasonal shopping at Kent Island Resort.\n\n\n\nJoin us at Kent Island Resort for our Spring Fest & Craft Fair\, a fun-filled day celebrating local artisans\, makers\, and small businesses. Browse a variety of handcrafted goods\, unique finds\, and seasonal favorites while enjoying the beautiful grounds of the resort.
URL:https://www.kentislandresort.com/event/kent-island-resort-spring-fest-craft-fair/
CATEGORIES:Weekend Party
ATTACH;FMTTYPE=image/jpeg:https://www.kentislandresort.com/wp-content/uploads/2025/12/imgi_16_https3A2F2Fcdn.evbuc_.com2Fimages2F11731458762F13409575919732F12Foriginal.jpg
END:VEVENT
END:VCALENDAR